BEGIN:VCALENDAR
VERSION:2.0
PRODID:-//OmniMagnetCalendar//EN
BEGIN:VEVENT
DTSTAMP:20190625T195740Z
STATUS:CONFIRMED
UID:radcliffecollege.clubs.harvard.edu252
DTSTART:20221015T190000Z
DTEND:20221015T201230Z
LOCATION:Virtual,
SUMMARY:SPEAKER: Dehlia Umunna
DESCRIPTION:Join our guest speaker Dehlia  Umunna MPA ’11, Clinical Professor of Law, Harvard Law School; Deputy Director, Harvard Law School Criminal Justice Institute for a discussion on Forgiveness and the Law. Please register to join us.
BEGIN:VALARM
TRIGGER:-PT15M
ACTION:DISPLAY
END:VALARM
TRANSP:OPAQUE
END:VEVENT
END:VCALENDAR
