BEGIN:VCALENDAR
VERSION:2.0
PRODID:-//OmniMagnetCalendar//EN
BEGIN:VEVENT
DTSTAMP:20190625T195740Z
STATUS:CONFIRMED
UID:radcliffecollege.clubs.harvard.edu204
DTSTART:20161015T123000Z
DTEND:20161015T133000Z
LOCATION:Belmont-Paul Women's Equality National Monument, 2nd Street NE and Constitution, Washington, DC,
SUMMARY:Tour the Belmont-Paul Women's Equality National Monument
DESCRIPTION:
BEGIN:VALARM
TRIGGER:-PT15M
ACTION:DISPLAY
END:VALARM
TRANSP:OPAQUE
END:VEVENT
END:VCALENDAR
